BEGIN:VCALENDAR
VERSION:2.0
PRODID:-//Ministère des Affaires Sociales et de la Microfinance - ECPv5.6.0//NONSGML v1.0//EN
CALSCALE:GREGORIAN
METHOD:PUBLISH
X-WR-CALNAME:Ministère des Affaires Sociales et de la Microfinance
X-ORIGINAL-URL:https://social.gouv.bj
X-WR-CALDESC:évènements pour Ministère des Affaires Sociales et de la Microfinance
BEGIN:VTIMEZONE
TZID:Africa/Porto-Novo
BEGIN:STANDARD
TZOFFSETFROM:+0100
TZOFFSETTO:+0100
TZNAME:WAT
DTSTART:20180101T000000
END:STANDARD
END:VTIMEZONE
BEGIN:VEVENT
DTSTART;VALUE=DATE:20181014
DTEND;VALUE=DATE:20181021
DTSTAMP:20210819T160105
CREATED:20181112T094510Z
LAST-MODIFIED:20181112T100231Z
UID:888-1539475200-1540079999@social.gouv.bj
SUMMARY:Tournée de collecte de données pour l'élaboration du Document de Programmation Pluriannuelle des  Dépenses
DESCRIPTION:
URL:https://social.gouv.bj/evenement/tournee-de-collecte-de-donnees-pour-lelaboration-du-document-de-programmation-pluriannuelle-des-depenses/
LOCATION:Tous les Départements\, 00229\, Bénin
ORGANIZER;CN="Direction%20de%20la%20Programmation%20et%20de%20la%20Pespective%20%28DPP%29":MAILTO:tadoko@gouv.bj
END:VEVENT
END:VCALENDAR