BEGIN:VCALENDAR
VERSION:2.0
PRODID:-//Ministère des Affaires Sociales et de la Microfinance - ECPv5.6.0//NONSGML v1.0//EN
CALSCALE:GREGORIAN
METHOD:PUBLISH
X-WR-CALNAME:Ministère des Affaires Sociales et de la Microfinance
X-ORIGINAL-URL:https://social.gouv.bj
X-WR-CALDESC:évènements pour Ministère des Affaires Sociales et de la Microfinance
BEGIN:VTIMEZONE
TZID:Africa/Porto-Novo
BEGIN:STANDARD
TZOFFSETFROM:+0100
TZOFFSETTO:+0100
TZNAME:WAT
DTSTART:20180101T000000
END:STANDARD
END:VTIMEZONE
BEGIN:VEVENT
DTSTART;VALUE=DATE:20181118
DTEND;VALUE=DATE:20181123
DTSTAMP:20210819T160141
CREATED:20181126T114634Z
LAST-MODIFIED:20181126T114634Z
UID:939-1542499200-1542931199@social.gouv.bj
SUMMARY:Tournée de coordination dans les DDASM
DESCRIPTION:Tournée de coordination dans les DDASM
URL:https://social.gouv.bj/evenement/tournee-de-coordination-dans-les-ddasm-2/
LOCATION:Mono\, Couffo\, Zou et Collines\, Bénin
END:VEVENT
END:VCALENDAR